BEGIN:VCALENDAR
VERSION:2.0
PRODID:-//Southern Piedmont Technology Council - ECPv6.13.2.1//NONSGML v1.0//EN
CALSCALE:GREGORIAN
METHOD:PUBLISH
X-WR-CALNAME:Southern Piedmont Technology Council
X-ORIGINAL-URL:https://www.sptc-va.org
X-WR-CALDESC:Events for Southern Piedmont Technology Council
REFRESH-INTERVAL;VALUE=DURATION:PT1H
X-Robots-Tag:noindex
X-PUBLISHED-TTL:PT1H
BEGIN:VTIMEZONE
TZID:America/New_York
BEGIN:DAYLIGHT
TZOFFSETFROM:-0500
TZOFFSETTO:-0400
TZNAME:EDT
DTSTART:20250309T070000
END:DAYLIGHT
BEGIN:STANDARD
TZOFFSETFROM:-0400
TZOFFSETTO:-0500
TZNAME:EST
DTSTART:20251102T060000
END:STANDARD
END:VTIMEZONE
BEGIN:VEVENT
DTSTART;TZID=America/New_York:20250923T120000
DTEND;TZID=America/New_York:20250923T130000
DTSTAMP:20260424T121926
CREATED:20250904T190343Z
LAST-MODIFIED:20250904T190343Z
UID:10000090-1758628800-1758632400@www.sptc-va.org
SUMMARY:Cyber Threats
DESCRIPTION:
URL:https://www.sptc-va.org/event/cyber-threats/
LOCATION:Virtual
END:VEVENT
BEGIN:VEVENT
DTSTART;TZID=America/New_York:20250624T120000
DTEND;TZID=America/New_York:20250624T130000
DTSTAMP:20260424T121926
CREATED:20250213T185256Z
LAST-MODIFIED:20250304T205800Z
UID:10000080-1750766400-1750770000@www.sptc-va.org
SUMMARY:The Power of AI
DESCRIPTION:
URL:https://www.sptc-va.org/event/the-power-of-ai/
LOCATION:Virtual
END:VEVENT
END:VCALENDAR